BEGIN:VCALENDAR
VERSION:2.0
PRODID:-//wp-events-plugin.com//7.2.3.1//EN
TZID:Europe/London
X-WR-TIMEZONE:Europe/London
BEGIN:VEVENT
UID:673@teddingtontown.co.uk
DTSTART;TZID=Europe/London:20231003T200000
DTEND;TZID=Europe/London:20231003T211500
DTSTAMP:20230928T173441Z
URL:https://teddingtontown.co.uk/events/a-gardening-talk/
SUMMARY:A Gardening Talk
DESCRIPTION:The Teddington Society is delighted to be welcoming Andrew Hals
 tead\, author\, lecturer and retired Principal Entomologist for the Royal 
 Horticultural Society who will be giving a talk entitled: “Encouraging w
 ildlife in your garden – how you can develop your garden to benefit wild
 life without turning your garden into a weed-filled wilderness”. \n\n T
 he talk is being held at 8pm on Tuesday\, 3 October at the Teddington Cons
 titutional Club\, 5 Stanley Road\, Teddington.  The function room will be
  open from 8pm to take your seat.  The talk will start at approximately 8
 .15pm and last about an hour\, with time for questions.  \n\n The entra
 nce fee is £5 per adult.  You can purchase a ticket in advance via Teddi
 ngtonsociety.org.uk or on the evening at the venue before the start of the
  talk (card only please/no cash accepted).
CATEGORIES:Home and Garden
END:VEVENT
BEGIN:VTIMEZONE
TZID:Europe/London
X-LIC-LOCATION:Europe/London
BEGIN:DAYLIGHT
DTSTART:20230326T020000
TZOFFSETFROM:+0000
TZOFFSETTO:+0100
TZNAME:BST
END:DAYLIGHT
END:VTIMEZONE
END:VCALENDAR