BEGIN:VCALENDAR
VERSION:2.0
PRODID:-//wp-events-plugin.com//7.2.3.1//EN
TZID:Europe/London
X-WR-TIMEZONE:Europe/London
BEGIN:VEVENT
UID:487@teddingtontown.co.uk
DTSTART;TZID=Europe/London:20190406T193000
DTEND;TZID=Europe/London:20190406T193000
DTSTAMP:20190220T111854Z
URL:https://teddingtontown.co.uk/events/american-troubadours-performed-by-
 alistair-sherwood/
SUMMARY:American Troubadours performed by Alistair Sherwood
DESCRIPTION:An established singer-songwriter in his own right\, Alistair Sh
 erwood’s new album pays tribute to the inspiring lyrics and melodies of 
 the American Troubadours 1968-1978. Featuring songs by artists as prolific
  and influential as James Taylor\, Bob Dylan\, Simon and Garfunkel\, Tom P
 axton\, Leonard Cohen\, Johnny Cash\, Willie Nelson and Kris Kristofferson
  from one of America’s most creative musical periods. "His (Sherwood) so
 ngs are delivered with genuine conviction and heartfelt emotion"- Maverick
  Music Magazine. www.americantroubadoursongs.com\n\nTickets: £13 adults /
  £12 concs / £11 LAC Members\n\nBookings: Visit www.landmarkartscentre.o
 rg\, telephone 0208 977 7558\, or email info@landmarkartscentre.org\n\n&nb
 sp\;\n\n
CATEGORIES:Arts,Music,Poetry
LOCATION:Landmark Arts Centre\, Landmark Arts Centre\, Ferry Road\, Tedding
 ton\, TW11 9NN\, United Kingdom
X-APPLE-STRUCTURED-LOCATION;VALUE=URI;X-ADDRESS=Landmark Arts Centre\, Ferr
 y Road\, Teddington\, TW11 9NN\, United Kingdom;X-APPLE-RADIUS=100;X-TITLE
 =Landmark Arts Centre:geo:0,0
END:VEVENT
BEGIN:VTIMEZONE
TZID:Europe/London
X-LIC-LOCATION:Europe/London
BEGIN:DAYLIGHT
DTSTART:20190331T020000
TZOFFSETFROM:+0000
TZOFFSETTO:+0100
TZNAME:BST
END:DAYLIGHT
END:VTIMEZONE
END:VCALENDAR