BEGIN:VCALENDAR
VERSION:2.0
PRODID:-//wp-events-plugin.com//7.2.3.1//EN
TZID:Europe/London
X-WR-TIMEZONE:Europe/London
BEGIN:VEVENT
UID:1463@teddingtontown.co.uk
DTSTART;TZID=Europe/London;VALUE=DATE:20240514
DTEND;TZID=Europe/London;VALUE=DATE:20240520
DTSTAMP:20240510T131036Z
URL:https://teddingtontown.co.uk/events/aperol-spritz-week/
SUMMARY:Aperol Spritz Week
DESCRIPTION:Let Shambles brighten up your Summer! \nThe long awaited arriv
 al of warmer weather and longer days is imminent and there's no better way
  to enjoy a refreshing drink or delicious meal than sitting beneath our ga
 rden pergola. To celebrate\, we've teamed up with Aperol for a week of Spr
 itz's at just £5\, starting on Tuesday 13th to Sunday 19th May.\n\nBook N
 ow
ATTACH;FMTTYPE=image/jpeg:https://teddingtontown.co.uk/wp-content/uploads/
 2024/05/eb9a3d13-9dbe-4c5c-a3b7-a6d7dccd9501.jpeg
CATEGORIES:Food and Drink
END:VEVENT
BEGIN:VTIMEZONE
TZID:Europe/London
X-LIC-LOCATION:Europe/London
BEGIN:DAYLIGHT
DTSTART:20240331T020000
TZOFFSETFROM:+0000
TZOFFSETTO:+0100
TZNAME:BST
END:DAYLIGHT
END:VTIMEZONE
END:VCALENDAR