BEGIN:VCALENDAR
VERSION:2.0
PRODID:-//wp-events-plugin.com//7.2.3.1//EN
TZID:Europe/London
X-WR-TIMEZONE:Europe/London
BEGIN:VEVENT
UID:133@teddingtontown.co.uk
DTSTART;TZID=Europe/London:20160911T000000
DTEND;TZID=Europe/London:20160917T000000
DTSTAMP:20160816T130015Z
URL:https://teddingtontown.co.uk/events/betrayal-by-harold-pinter/
SUMMARY:BETRAYAL by Harold Pinter
DESCRIPTION:Teddington Theatre Club opens its Double Treachery Season at Ha
 mpton Hill Theatre with Harold Pinter’s\nBETRAYAL\n\nDirected by John Bu
 ckingham in the Coward Studio\n\nPinter’s searing 70s perspective on inf
 idelity\n\nFor seven years. Robert’s wife Emma has been having an affair
  with Jerry\, his best friend. But\, when it’s over\, scene by scene we 
 go back in time to its beginning. Pinter’s semi-autobiographic masterpie
 ce satirizes ‘swinging’ London’s affluent intelligentsia and explore
 s the meaning of betrayal on many levels\, not least the way time itself b
 etrays us all.\n\nPlaying dates:\nSunday 11th September – Saturday 17th 
 September\nPerformance times:\nSunday 6pm\, weekdays 7.45pm\nTicket Prices
 :\n£10.00 &amp\; £12.00\nBox office:\nTelephone: 0845 838 7529 (10am –
  8pm)\nOnline: ttc-boxoffice.org.uk\nWebsite link:\nhttp://www.teddingtont
 heatreclub.org.uk/production/betrayal\n\n
CATEGORIES:Theatre
LOCATION:Hampton Hill Theatre\, 90 high street \, Hampton hill \, TW12 1NZ\
 , United Kingdom
X-APPLE-STRUCTURED-LOCATION;VALUE=URI;X-ADDRESS=90 high street \, Hampton h
 ill \, TW12 1NZ\, United Kingdom;X-APPLE-RADIUS=100;X-TITLE=Hampton Hill T
 heatre:geo:0,0
END:VEVENT
BEGIN:VTIMEZONE
TZID:Europe/London
X-LIC-LOCATION:Europe/London
BEGIN:DAYLIGHT
DTSTART:20160327T020000
TZOFFSETFROM:+0000
TZOFFSETTO:+0100
TZNAME:BST
END:DAYLIGHT
END:VTIMEZONE
END:VCALENDAR