BEGIN:VCALENDAR
VERSION:2.0
PRODID:-//wp-events-plugin.com//7.2.3.1//EN
TZID:Europe/London
X-WR-TIMEZONE:Europe/London
BEGIN:VEVENT
UID:138@teddingtontown.co.uk
DTSTART;TZID=Europe/London:20161013T180000
DTEND;TZID=Europe/London:20161013T190000
DTSTAMP:20160825T075627Z
URL:https://teddingtontown.co.uk/events/book-launch-the-woman-behind-the-w
 aterfall/
SUMMARY:Book Launch - The Woman Behind the Waterfall
DESCRIPTION:Local Teddington author Leonora Meriel is launching her debut n
 ovel "The Woman Behind the Waterfall" at Teddington Waterstones. Wine and 
 snacks provided and signed copies of the book available. All welcome.
CATEGORIES:Special Occasion
LOCATION:Waterstones Teddington Town\,\,  65-67 High Street \, Teddington\,
  TW11 8HA\, United Kingdom
GEO:51.4274056;-0.33075850000000173
X-APPLE-STRUCTURED-LOCATION;VALUE=URI;X-ADDRESS= 65-67 High Street \, Teddi
 ngton\, TW11 8HA\, United Kingdom;X-APPLE-RADIUS=100;X-TITLE=Waterstones T
 eddington Town\,:geo:51.4274056,-0.33075850000000173
END:VEVENT
BEGIN:VTIMEZONE
TZID:Europe/London
X-LIC-LOCATION:Europe/London
BEGIN:DAYLIGHT
DTSTART:20160327T020000
TZOFFSETFROM:+0000
TZOFFSETTO:+0100
TZNAME:BST
END:DAYLIGHT
END:VTIMEZONE
END:VCALENDAR