BEGIN:VCALENDAR
VERSION:2.0
PRODID:-//wp-events-plugin.com//7.2.3.1//EN
TZID:Europe/London
X-WR-TIMEZONE:Europe/London
BEGIN:VEVENT
UID:21@teddingtontown.co.uk
DTSTART;TZID=Europe/London:20160709T190000
DTEND;TZID=Europe/London:20160709T210000
DTSTAMP:20160324T142735Z
URL:https://teddingtontown.co.uk/events/cancer-care-concert/
SUMMARY:Cancer Care Concert
DESCRIPTION:A band concert by local musicians and children for Shooting Sta
 r Chase and Macmillan Cancer Care Trust to celebrate the memory of relativ
 es and friends. Music from the films and popular classics\, from Star Wars
  and James Bond to Glenn Miller and Grieg!\nAll proceeds from this concert
  will go to Macmillan Cancer Care and The Shooting Star Chase Children's H
 ospice to help cancer patients in the late stages of illness. It is given 
 in memory of Mark Vickers\, who died at the age of 32 from Abernathy Syndr
 ome (Liver Cancer)\; Peter Bourne\, who died at the age of 33 from Leukaem
 ia\; Janet Levick\, who died at the age of 37 from Hodgkin Lymphoma and Lo
 uise van Steveninck who died at the age of 48 from Lung Cancer. All are cl
 osely connected to members of the band.\nDonations can be made via the Can
 cer Care Concert pages on the Just Giving website
CATEGORIES:Music
LOCATION:Lady Eleanor Holles School Theatre\, Hampton\, Hanworth Road\, Ham
 pton \, TW12 3HF\, United Kingdom
GEO:51.4274638;-0.3677966000000197
X-APPLE-STRUCTURED-LOCATION;VALUE=URI;X-ADDRESS=Hanworth Road\, Hampton \, 
 TW12 3HF\, United Kingdom;X-APPLE-RADIUS=100;X-TITLE=Lady Eleanor Holles S
 chool Theatre\, Hampton:geo:51.4274638,-0.3677966000000197
END:VEVENT
BEGIN:VTIMEZONE
TZID:Europe/London
X-LIC-LOCATION:Europe/London
BEGIN:DAYLIGHT
DTSTART:20160327T020000
TZOFFSETFROM:+0000
TZOFFSETTO:+0100
TZNAME:BST
END:DAYLIGHT
END:VTIMEZONE
END:VCALENDAR