BEGIN:VCALENDAR
VERSION:2.0
PRODID:-//wp-events-plugin.com//7.2.3.1//EN
TZID:Europe/London
X-WR-TIMEZONE:Europe/London
BEGIN:VEVENT
UID:453@teddingtontown.co.uk
DTSTART;TZID=Europe/London:20181209T190000
DTEND;TZID=Europe/London:20181209T210000
DTSTAMP:20181119T092451Z
URL:https://teddingtontown.co.uk/events/christmas-concert-finzi-mendelssoh
 n-carols-with-brass-quintet/
SUMMARY:Christmas Concert - Finzi\, Mendelssohn & Carols with Brass Quintet
DESCRIPTION:Programme includes:\n\n•Felix Mendelssohn 6 lieder op 59\n•
 Gerald Finzi Seven Poems of Robert Bridges\n•Christmas Carols for choir 
 and audience\n\nMusical Director: Sebastian Valentine\n\nAssistant Musical
  Director &amp\; Accompanist: Duncan Appleby\n\nMulled wine and mince pies
  available during the interval.\n\nTickets: £12\, concessions £8\, accom
 panied children free.\n
CATEGORIES:Christmas,Music
LOCATION:St Mark's Church\, St Mark's Road \, Teddington \, TW11 9DE \, Uni
 ted Kingdom
GEO:51.4205933;-0.3206652999999733
X-APPLE-STRUCTURED-LOCATION;VALUE=URI;X-ADDRESS=St Mark's Road \, Teddingto
 n \, TW11 9DE \, United Kingdom;X-APPLE-RADIUS=100;X-TITLE=St Mark's Churc
 h:geo:51.4205933,-0.3206652999999733
END:VEVENT
BEGIN:VTIMEZONE
TZID:Europe/London
X-LIC-LOCATION:Europe/London
BEGIN:STANDARD
DTSTART:20181028T010000
TZOFFSETFROM:+0100
TZOFFSETTO:+0000
TZNAME:GMT
END:STANDARD
END:VTIMEZONE
END:VCALENDAR