BEGIN:VCALENDAR
VERSION:2.0
PRODID:-//wp-events-plugin.com//7.2.3.1//EN
TZID:Europe/London
X-WR-TIMEZONE:Europe/London
BEGIN:VEVENT
UID:190@teddingtontown.co.uk
DTSTART;TZID=Europe/London:20161210T153000
DTEND;TZID=Europe/London:20161210T173000
DTSTAMP:20161104T121656Z
URL:https://teddingtontown.co.uk/events/christmas-creative-writing-worksho
 p/
SUMMARY:CHRISTMAS CREATIVE WRITING WORKSHOP
DESCRIPTION:This is a creative writing workshop for children aged 7-12 year
 s old run by creative writing teacher and tutor Janette Simpson.\nIt will 
 be packed full of fun\, festive games and writing about all things Christm
 assy!\n\n
CATEGORIES:Christmas
LOCATION:The School Room\, Munster Road \, Teddington\, TW11 9LR\, United K
 ingdom
GEO:51.422532;-0.3182679000000235
X-APPLE-STRUCTURED-LOCATION;VALUE=URI;X-ADDRESS=Munster Road \, Teddington\
 , TW11 9LR\, United Kingdom;X-APPLE-RADIUS=100;X-TITLE=The School Room:geo
 :51.422532,-0.3182679000000235
END:VEVENT
BEGIN:VTIMEZONE
TZID:Europe/London
X-LIC-LOCATION:Europe/London
BEGIN:STANDARD
DTSTART:20161030T010000
TZOFFSETFROM:+0100
TZOFFSETTO:+0000
TZNAME:GMT
END:STANDARD
END:VTIMEZONE
END:VCALENDAR