BEGIN:VCALENDAR
VERSION:2.0
PRODID:-//wp-events-plugin.com//7.2.3.1//EN
TZID:Europe/London
X-WR-TIMEZONE:Europe/London
BEGIN:VEVENT
UID:879@teddingtontown.co.uk
DTSTART;TZID=Europe/London:20240116T170000
DTEND;TZID=Europe/London:20240116T190000
DTSTAMP:20231206T133509Z
URL:https://teddingtontown.co.uk/events/comic-book-art-10yrs-4-week-course
 /
SUMMARY:Comic Book Art (10yrs+) - 4 week course
DESCRIPTION:The Landmark Arts Centre\, Ferry Road\, Teddington\, TW11 9NN\n
 \nDiscover different forms of illustration and expand the practice of draw
 ing with pen/pencil and paper while visiting well-known comics (from Garfi
 eld to Spiderman). Learn the story telling techniques you need to take YOU
 R idea to the next level.\n\n&nbsp\;\n\nTimes:  Mondays 5-7pm\n\nCourse F
 ee:  £100\n\nOnline Booking: https://www.landmarkartscentre.org/class/u
 18-comic-book-art/
ATTACH;FMTTYPE=image/jpeg:https://teddingtontown.co.uk/wp-content/uploads/
 2023/12/U18-comic.jpg
CATEGORIES:Arts &amp; Crafts,Education
END:VEVENT
BEGIN:VTIMEZONE
TZID:Europe/London
X-LIC-LOCATION:Europe/London
BEGIN:STANDARD
DTSTART:20231029T010000
TZOFFSETFROM:+0100
TZOFFSETTO:+0000
TZNAME:GMT
END:STANDARD
END:VTIMEZONE
END:VCALENDAR