BEGIN:VCALENDAR
VERSION:2.0
PRODID:-//wp-events-plugin.com//7.2.3.1//EN
TZID:Europe/London
X-WR-TIMEZONE:Europe/London
BEGIN:VEVENT
UID:528@teddingtontown.co.uk
DTSTART;TZID=Europe/London:20191227T200000
DTEND;TZID=Europe/London:20191227T233000
DTSTAMP:20190612T102628Z
URL:https://teddingtontown.co.uk/events/disco-soul-classic-motown/
SUMMARY:Disco Soul & Classic Motown
DESCRIPTION:Disco Soul Classic Motown\, 70s with a splash of 80s. Work off 
 the Christmas Pud!!\n\n£5 on the door\,\n\nCheap Bar\, Free Parking great
  atmosphere DJs Ann &amp\; Les.\n\nwww.musicnights.co.uk\n\ninfo@musicnigh
 ts.co.uk\n\nTel: 07784 949272\n\n
ATTACH;FMTTYPE=image/jpeg:https://teddingtontown.co.uk/wp-content/uploads/
 2019/06/Teddington-DiscoSoul-Nights-2019-27.jpg
CATEGORIES:Christmas,Dancing,Music,Social Events,Special Occasion
LOCATION:Teddington Constitutional Club\, 5 Stanley Road \, Teddington \, T
 w11 8tp \, United Kingdom
GEO:51.4275434;-0.34113460000003215
X-APPLE-STRUCTURED-LOCATION;VALUE=URI;X-ADDRESS=5 Stanley Road \, Teddingto
 n \, Tw11 8tp \, United Kingdom;X-APPLE-RADIUS=100;X-TITLE=Teddington Cons
 titutional Club:geo:51.4275434,-0.34113460000003215
END:VEVENT
BEGIN:VTIMEZONE
TZID:Europe/London
X-LIC-LOCATION:Europe/London
BEGIN:STANDARD
DTSTART:20191027T010000
TZOFFSETFROM:+0100
TZOFFSETTO:+0000
TZNAME:GMT
END:STANDARD
END:VTIMEZONE
END:VCALENDAR