BEGIN:VCALENDAR
VERSION:2.0
PRODID:-//wp-events-plugin.com//7.2.3.1//EN
TZID:Europe/London
X-WR-TIMEZONE:Europe/London
BEGIN:VEVENT
UID:615@teddingtontown.co.uk
DTSTART;TZID=Europe/London:20230722T110000
DTEND;TZID=Europe/London:20230723T180000
DTSTAMP:20230802T092511Z
URL:https://teddingtontown.co.uk/events/eel-pie-artists-summer-open-studio
 -weekend/
SUMMARY:Eel Pie Artists Summer Open Studio Weekend
DESCRIPTION:Eel Pie Artists invite visitors to view\, purchase or commissio
 n a wide range of art and craft work.\n\nFree\, dog friendly event. All we
 lcome. Children must be supervised at all times.\n\nEel Pie Boatyard\, Eel
  Pie Island Twickenham Embankment TW1 3DY
ATTACH;FMTTYPE=image/jpeg:https://teddingtontown.co.uk/wp-content/uploads/
 2023/07/20230329_141502-1.jpg
CATEGORIES:Arts &amp; Crafts
END:VEVENT
BEGIN:VTIMEZONE
TZID:Europe/London
X-LIC-LOCATION:Europe/London
BEGIN:DAYLIGHT
DTSTART:20230326T020000
TZOFFSETFROM:+0000
TZOFFSETTO:+0100
TZNAME:BST
END:DAYLIGHT
END:VTIMEZONE
END:VCALENDAR