BEGIN:VCALENDAR
VERSION:2.0
PRODID:-//wp-events-plugin.com//7.2.3.1//EN
TZID:Europe/London
X-WR-TIMEZONE:Europe/London
BEGIN:VEVENT
UID:878@teddingtontown.co.uk
DTSTART;TZID=Europe/London:20240118T100000
DTEND;TZID=Europe/London:20240118T130000
DTSTAMP:20231206T133509Z
URL:https://teddingtontown.co.uk/events/exploring-acrylic-painting-startin
 g-out-4-week-course/
SUMMARY:Exploring Acrylic Painting - Starting out:  4 week course
DESCRIPTION:The Landmark Arts Centre\, Ferry Road\, Teddington\, TW11 9NN\n
 \n&nbsp\;\n\nAn introduction to the techniques of Acrylic Painting for beg
 inners and those who want to brush up their skills. The course is structur
 ed using projects that are designed to develop several techniques that can
  help build confidence in the medium.\n\n&nbsp\;\n\nTimes:  Thursdays 10a
 m - 1pm\n\nCourse Fee:  £140\n\nOnline Booking: https://www.landmarkart
 scentre.org/class/exploring-acrylics-starting-out/
ATTACH;FMTTYPE=image/jpeg:https://teddingtontown.co.uk/wp-content/uploads/
 2023/12/Acrylics-intro-smaller.jpg
CATEGORIES:Arts &amp; Crafts
END:VEVENT
BEGIN:VTIMEZONE
TZID:Europe/London
X-LIC-LOCATION:Europe/London
BEGIN:STANDARD
DTSTART:20231029T010000
TZOFFSETFROM:+0100
TZOFFSETTO:+0000
TZNAME:GMT
END:STANDARD
END:VTIMEZONE
END:VCALENDAR