BEGIN:VCALENDAR
VERSION:2.0
PRODID:-//wp-events-plugin.com//7.2.3.1//EN
TZID:Europe/London
X-WR-TIMEZONE:Europe/London
BEGIN:VEVENT
UID:1614@teddingtontown.co.uk
DTSTART;TZID=Europe/London:20241206T100000
DTEND;TZID=Europe/London:20241215T170000
DTSTAMP:20241014T141402Z
URL:https://teddingtontown.co.uk/events/hampton-court-palace-festive-fayre
 /
SUMMARY:Hampton Court Palace Festive Fayre
DESCRIPTION:Step into the festive spirit at Hampton Court Palace Festive Fa
 yre this December!\n\n Wander through the palace’s courtyards and garden
 s\, which are transformed into a food lover’s paradise. Enjoy artisan fo
 od and drink\, with treats like indulgent brownies and churros\, alongside
  unique gift shopping from boutique exhibitors. With over 15 street food s
 talls\, including pizza\, dumplings\, and vegan wraps\, there’s somethin
 g for every taste. Wash it down with mulled wine\, cider\, or English spar
 kling wine. Live music and horse-drawn cart rides add to the magical atmos
 phere\, making it the perfect festive day out for everyone. \n\n&nbsp\;\n
 \nNotes dates are: 6th–8th &amp\; 13th–15th December 2024
CATEGORIES:Arts &amp; Crafts,Christmas,Family Day
 Out,History,Market,Shopping
END:VEVENT
BEGIN:VTIMEZONE
TZID:Europe/London
X-LIC-LOCATION:Europe/London
BEGIN:STANDARD
DTSTART:20241027T010000
TZOFFSETFROM:+0100
TZOFFSETTO:+0000
TZNAME:GMT
END:STANDARD
END:VTIMEZONE
END:VCALENDAR