BEGIN:VCALENDAR
VERSION:2.0
PRODID:-//wp-events-plugin.com//7.2.3.1//EN
TZID:Europe/London
X-WR-TIMEZONE:Europe/London
BEGIN:VEVENT
UID:121@teddingtontown.co.uk
DTSTART;TZID=Europe/London:20161112T193000
DTEND;TZID=Europe/London:20161112T213000
DTSTAMP:20160706T101952Z
URL:https://teddingtontown.co.uk/events/il-barbiere-di-siviglia/
SUMMARY:Il Barbiere di Siviglia
DESCRIPTION:Rossini's ever popular comic opera is a tuneful masterpiece. Th
 is tells the tale of a quick thinking barber\, Figaro\, who is paid to hel
 p a count\, Almaviva to win the woman of his dreams. Almaviva needs to dis
 guise himself more than once to outwit the guardian of Rosina - a perfect 
 young woman as long as you don't get in her way. Figaro\, of course\, will
  do all he can to ensure that\, despite all the guardian's attempts\, Rosi
 na does indeed end up in the arms of the dashing count.\nTickets\nAdult £
 20 Concession £16\nCall 0333 1212 300 or online at www.langdondowncentre.
 org.uk\n\n
CATEGORIES:Theatre
LOCATION:Normansfield Theatre\, 2A Langdon Park\, Teddington \, TW11 9PS\, 
 United Kingdom
GEO:51.4198006;-0.3145604999999705
X-APPLE-STRUCTURED-LOCATION;VALUE=URI;X-ADDRESS=2A Langdon Park\, Teddingto
 n \, TW11 9PS\, United Kingdom;X-APPLE-RADIUS=100;X-TITLE=Normansfield The
 atre:geo:51.4198006,-0.3145604999999705
END:VEVENT
BEGIN:VTIMEZONE
TZID:Europe/London
X-LIC-LOCATION:Europe/London
BEGIN:STANDARD
DTSTART:20161030T010000
TZOFFSETFROM:+0100
TZOFFSETTO:+0000
TZNAME:GMT
END:STANDARD
END:VTIMEZONE
END:VCALENDAR