BEGIN:VCALENDAR
VERSION:2.0
PRODID:-//wp-events-plugin.com//7.2.3.1//EN
TZID:Europe/London
X-WR-TIMEZONE:Europe/London
BEGIN:VEVENT
UID:870@teddingtontown.co.uk
DTSTART;TZID=Europe/London:20240110T100000
DTEND;TZID=Europe/London:20240110T130000
DTSTAMP:20231206T133507Z
URL:https://teddingtontown.co.uk/events/life-drawing-with-life-model-10-we
 ek-course/
SUMMARY:Life Drawing (with life model) - 10 week course
DESCRIPTION:The Landmark Arts Centre\, Ferry Road\, Teddington\, TW11 9NN\n
 \n&nbsp\;\n\nExploring different ways of understanding and depicting the h
 uman form drawing and watercolour painting from a life model.\n\nTimes:  
 10am - 1pm\n\nCourse Fee:  £350\n\nOnline Booking:  https://www.landma
 rkartscentre.org/class/life-drawing-and-painting-spring/
ATTACH;FMTTYPE=image/jpeg:https://teddingtontown.co.uk/wp-content/uploads/
 2023/12/life-drawing-spring-22-landscape.png
CATEGORIES:Arts &amp; Crafts
END:VEVENT
BEGIN:VTIMEZONE
TZID:Europe/London
X-LIC-LOCATION:Europe/London
BEGIN:STANDARD
DTSTART:20231029T010000
TZOFFSETFROM:+0100
TZOFFSETTO:+0000
TZNAME:GMT
END:STANDARD
END:VTIMEZONE
END:VCALENDAR