BEGIN:VCALENDAR
VERSION:2.0
PRODID:-//wp-events-plugin.com//7.2.3.1//EN
TZID:Europe/London
X-WR-TIMEZONE:Europe/London
BEGIN:VEVENT
UID:475@teddingtontown.co.uk
DTSTART;TZID=Europe/London:20190302T110000
DTEND;TZID=Europe/London:20190303T170000
DTSTAMP:20190118T090727Z
URL:https://teddingtontown.co.uk/events/london-potters-local-fair/
SUMMARY:London Potters Local Fair
DESCRIPTION:\n\n\nThis is a unique opportunity to see and to buy ceramic wo
 rk from established professionals as well as emerging local talents.\nThe 
 range of contemporary ceramics on show span from purely abstract decorativ
 e pieces to tableware that fulfils a practical function\; from decorative\
 , ceramic jewellery to striking one-off collectors pieces\, and with price
 s to suit all budgets.\nA Coffee Shop will be open throughout the day with
  a children’s art activity table.\n\nFor futher information contact 0333
  1212 300 or online at http://www.langdondowncentre.org.uk.\n\n\n
CATEGORIES:Craft Fair
LOCATION:Normansfield Theatre\, 2A Langdon Park\, Teddington \, TW11 9PS\, 
 United Kingdom
GEO:51.4198006;-0.3145604999999705
X-APPLE-STRUCTURED-LOCATION;VALUE=URI;X-ADDRESS=2A Langdon Park\, Teddingto
 n \, TW11 9PS\, United Kingdom;X-APPLE-RADIUS=100;X-TITLE=Normansfield The
 atre:geo:51.4198006,-0.3145604999999705
END:VEVENT
BEGIN:VTIMEZONE
TZID:Europe/London
X-LIC-LOCATION:Europe/London
BEGIN:STANDARD
DTSTART:20181028T010000
TZOFFSETFROM:+0100
TZOFFSETTO:+0000
TZNAME:GMT
END:STANDARD
END:VTIMEZONE
END:VCALENDAR