BEGIN:VCALENDAR
VERSION:2.0
PRODID:-//wp-events-plugin.com//7.2.3.1//EN
TZID:Europe/London
X-WR-TIMEZONE:Europe/London
BEGIN:VEVENT
UID:869@teddingtontown.co.uk
DTSTART;TZID=Europe/London:20240108T134500
DTEND;TZID=Europe/London:20240108T161500
DTSTAMP:20231206T133506Z
URL:https://teddingtontown.co.uk/events/mixed-media-find-your-creative-voi
 ce-5-week-course/
SUMMARY:Mixed Media:  Find Your Creative Voice - 5 week course
DESCRIPTION:The Landmark Arts Centre\, Ferry Road\, Teddington\, TW11 9NN\n
 \nLoosen up and take pleasure in just being creative! On our journey we wi
 ll design and create lots of exciting images whilst exploring the key mult
 imedia techniques such as mark making\, printing\, painting\, collage\, co
 lour harmonising and creating layers.\n\nTimes:  1.45 – 4.15pm\n\nCours
 e Fee:  £135\n\nOnline Booking:  https://www.landmarkartscentre.org/cl
 ass/mixed-media-find-your-creative-voice/
ATTACH;FMTTYPE=image/jpeg:https://teddingtontown.co.uk/wp-content/uploads/
 2023/12/mixed-media-smaller.jpg
CATEGORIES:Arts &amp; Crafts
END:VEVENT
BEGIN:VTIMEZONE
TZID:Europe/London
X-LIC-LOCATION:Europe/London
BEGIN:STANDARD
DTSTART:20231029T010000
TZOFFSETFROM:+0100
TZOFFSETTO:+0000
TZNAME:GMT
END:STANDARD
END:VTIMEZONE
END:VCALENDAR