BEGIN:VCALENDAR
VERSION:2.0
PRODID:-//wp-events-plugin.com//7.2.3.1//EN
TZID:Europe/London
X-WR-TIMEZONE:Europe/London
BEGIN:VEVENT
UID:95@teddingtontown.co.uk
DTSTART;TZID=Europe/London:20160625T000000
DTEND;TZID=Europe/London:20160703T000000
DTSTAMP:20160602T125414Z
URL:https://teddingtontown.co.uk/events/new-art-exhibition-kimm-stevens/
SUMMARY:New Art Exhibition - Kimm Stevens
DESCRIPTION:
CATEGORIES:Arts
LOCATION:PopUp Gallery\, 20 Addison Road \, Teddington \, TW11 9ex \, Unite
 d Kingdom
GEO:51.42252629999999;-0.32269109999992907
X-APPLE-STRUCTURED-LOCATION;VALUE=URI;X-ADDRESS=20 Addison Road \, Teddingt
 on \, TW11 9ex \, United Kingdom;X-APPLE-RADIUS=100;X-TITLE=PopUp Gallery:
 geo:51.42252629999999,-0.32269109999992907
END:VEVENT
BEGIN:VTIMEZONE
TZID:Europe/London
X-LIC-LOCATION:Europe/London
BEGIN:DAYLIGHT
DTSTART:20160327T020000
TZOFFSETFROM:+0000
TZOFFSETTO:+0100
TZNAME:BST
END:DAYLIGHT
END:VTIMEZONE
END:VCALENDAR