BEGIN:VCALENDAR
VERSION:2.0
PRODID:-//wp-events-plugin.com//7.2.3.1//EN
TZID:Europe/London
X-WR-TIMEZONE:Europe/London
BEGIN:VEVENT
UID:152@teddingtontown.co.uk
DTSTART;TZID=Europe/London:20160915T110000
DTEND;TZID=Europe/London:20160915T230000
DTSTAMP:20160908T141528Z
URL:https://teddingtontown.co.uk/events/ribs-burgers-teddington-grand-open
 ing/
SUMMARY:Ribs & Burgers Teddington GRAND OPENING
DESCRIPTION:Meat lovers take note: Thursday 15th September sees the grand o
 pening of the UK's debut Ribs &amp\; Burgers restaurant. Customers will be
  welcomed in to sample its fresh\, hot and succulent specialties from 11am
  when the doors open for the first time.\n\nTo celebrate the restaurant's 
 launch\, the first one hundred people to line up at Ribs &amp\; Burgers be
 fore 11 am will be rewarded with a 1 IN 100 loyalty card – entitling the
  lucky carnivores to one free Original Burger every week for an entire yea
 r!\n\nThose who miss out on the loyalty card need not fret\, as throughout
  the day Ribs &amp\; Burgers staff will also be delighting those in the qu
 eue with special discount vouchers and on-the-spot prizes.\n\nDon't miss o
 ut!\n\n
CATEGORIES:Food and Drink
LOCATION:Ribs and Burgers\, 4 Broad Street \, Teddington \, TW11 8RF \, Uni
 ted Kingdom
GEO:51.42601690000001;-0.3395143000000189
X-APPLE-STRUCTURED-LOCATION;VALUE=URI;X-ADDRESS=4 Broad Street \, Teddingto
 n \, TW11 8RF \, United Kingdom;X-APPLE-RADIUS=100;X-TITLE=Ribs and Burger
 s:geo:51.42601690000001,-0.3395143000000189
END:VEVENT
BEGIN:VTIMEZONE
TZID:Europe/London
X-LIC-LOCATION:Europe/London
BEGIN:DAYLIGHT
DTSTART:20160327T020000
TZOFFSETFROM:+0000
TZOFFSETTO:+0100
TZNAME:BST
END:DAYLIGHT
END:VTIMEZONE
END:VCALENDAR