BEGIN:VCALENDAR
VERSION:2.0
PRODID:-//wp-events-plugin.com//7.2.3.1//EN
TZID:Europe/London
X-WR-TIMEZONE:Europe/London
BEGIN:VEVENT
UID:616@teddingtontown.co.uk
DTSTART;TZID=Europe/London:20230916T103000
DTEND;TZID=Europe/London:20230916T163000
DTSTAMP:20230816T091018Z
URL:https://teddingtontown.co.uk/events/teddington-choral-society-come-sin
 g-day-verdis-requiem-and-handels-messiah/
SUMMARY:Teddington Choral Society Come &amp\; Sing Day: Verdi\\'s Requiem a
 nd Handel\\'s Messiah
DESCRIPTION:\n\n\nTeddington Choral Society and its Music Director\, Julian
  Collings\, invite you to a "Come and Sing Day" on September 16th\, 2023
  at St Mary’s Church Hall\, Church Street\, Twickenham\, TW1 3NJ.\n\nTh
 e singing day will feature Verdi’s Requiem and Handel's Messiah.\n\n\nR
 egistration from 10:00am\nSinging from 10:30am to 4:30pm\n \nVerdi’s 
 Requiem music provided to those booking in advance (not guaranteed for oth
 ers).\n\nPlease let us know if you need a copy of the Verdi requiem. (Clic
 k “Contact" at the bottom of the Eventbrite front page or e mail at info
 teddchoral@gmail.com).\n\n\n\n\n\n\n\n\n\n\n\n\n\nCoffee\, tea and cake pr
 ovided\n\n&nbsp\;\n\nBooking:\n\n£10 for TCS members\n\n£15 for guests.\
 n\n&nbsp\;\n\n*Eventbrite: https://www.eventbrite.co.uk/e/teddington-chor
 al-society-come-and-sing-handel-and-verdi-tickets-678096704497?aff=oddtdtc
 reator\n\n*At the door\n\nMore details: https://www.teddingtonchoral.co.u
 k\n\n\n\n\n\n\n
ATTACH;FMTTYPE=image/jpeg:https://teddingtontown.co.uk/wp-content/uploads/
 2023/07/Sept-16th-2023-Verdis-requiem-Handels-Messiah-copy.png
CATEGORIES:Music
END:VEVENT
BEGIN:VTIMEZONE
TZID:Europe/London
X-LIC-LOCATION:Europe/London
BEGIN:DAYLIGHT
DTSTART:20230326T020000
TZOFFSETFROM:+0000
TZOFFSETTO:+0100
TZNAME:BST
END:DAYLIGHT
END:VTIMEZONE
END:VCALENDAR