BEGIN:VCALENDAR
VERSION:2.0
PRODID:-//wp-events-plugin.com//7.2.3.1//EN
TZID:Europe/London
X-WR-TIMEZONE:Europe/London
BEGIN:VEVENT
UID:229@teddingtontown.co.uk
DTSTART;TZID=Europe/London:20170204T140000
DTEND;TZID=Europe/London:20170204T160000
DTSTAMP:20170113T114239Z
URL:https://teddingtontown.co.uk/events/teddington-mum2mum-market-nearly-n
 ew-sale/
SUMMARY:Teddington Mum2mum Market Nearly New Sale
DESCRIPTION:Mum2mum market is hosting another fabulous NEARLY NEW SALE in *
 **TEDDINGTON*** Sat 4th Feb 14.00 - 16.00 pm @ Teddington Baptist Church\,
  Church Road\, Teddington\, TW11 8PF\n\n£2 on the door. Kids FREE. Everyo
 ne welcome :-)\n\nUp to 26 stalls selling a huge range of gently used good
 ies all under our buggy friendly venue with yummy refreshments! #toys #clo
 thes #games #highchair #scooter #stroller\nPlease join our facebook event 
 to receive all the information\nhttps://www.facebook.com/events/5688980866
 53283/\n\nFREE goody bags\, face painting\, massage\, buggy park\, baby ch
 anging\, feeding area\n\nPLUS refreshments and all proceeds to local chari
 ty Baby Basics\n\n2 for 1 entry voucher\n\nwww.mum2mummarket.co.uk/get-fre
 e-entry.html\n\nLast half hour FREE to get in!!!\n\nStalls sell out weeks 
 in advance. BOOK YOUR stall now at www.mum2mummarket.co.uk/book-a-stall.ht
 ml\n\nOur sales support and fundraise in aid of local charity Baby Basics.
CATEGORIES:Shopping
LOCATION:Teddington Baptist Church\, Church Road \, Teddington \, TW11 8PF\
 , United Kingdom
GEO:51.427055;-0.33679269999993267
X-APPLE-STRUCTURED-LOCATION;VALUE=URI;X-ADDRESS=Church Road \, Teddington \
 , TW11 8PF\, United Kingdom;X-APPLE-RADIUS=100;X-TITLE=Teddington Baptist 
 Church:geo:51.427055,-0.33679269999993267
END:VEVENT
BEGIN:VTIMEZONE
TZID:Europe/London
X-LIC-LOCATION:Europe/London
BEGIN:STANDARD
DTSTART:20161030T010000
TZOFFSETFROM:+0100
TZOFFSETTO:+0000
TZNAME:GMT
END:STANDARD
END:VTIMEZONE
END:VCALENDAR