BEGIN:VCALENDAR
VERSION:2.0
PRODID:-//wp-events-plugin.com//7.2.3.1//EN
TZID:Europe/London
X-WR-TIMEZONE:Europe/London
BEGIN:VEVENT
UID:607@teddingtontown.co.uk
DTSTART;TZID=Europe/London;VALUE=DATE:20230613
DTEND;TZID=Europe/London;VALUE=DATE:20230622
DTSTAMP:20230623T105006Z
URL:https://teddingtontown.co.uk/events/test-3/
SUMMARY:test
DESCRIPTION:adfads
CATEGORIES:Animals
END:VEVENT
BEGIN:VTIMEZONE
TZID:Europe/London
X-LIC-LOCATION:Europe/London
BEGIN:DAYLIGHT
DTSTART:20230326T020000
TZOFFSETFROM:+0000
TZOFFSETTO:+0100
TZNAME:BST
END:DAYLIGHT
END:VTIMEZONE
END:VCALENDAR