BEGIN:VCALENDAR
VERSION:2.0
PRODID:-//wp-events-plugin.com//7.2.3.1//EN
TZID:Europe/London
X-WR-TIMEZONE:Europe/London
BEGIN:VEVENT
UID:608@teddingtontown.co.uk
DTSTART;TZID=Europe/London:20230616T000000
DTEND;TZID=Europe/London:20230622T000000
DTSTAMP:20230623T105007Z
URL:https://teddingtontown.co.uk/events/test-event-the-bright-clik/
SUMMARY:Test event The Bright Clik
DESCRIPTION:Testing front-end submission 
ATTACH;FMTTYPE=image/jpeg:https://teddingtontown.co.uk/wp-content/uploads/
 2023/06/big-image-1.png
CATEGORIES:Community
END:VEVENT
BEGIN:VTIMEZONE
TZID:Europe/London
X-LIC-LOCATION:Europe/London
BEGIN:DAYLIGHT
DTSTART:20230326T020000
TZOFFSETFROM:+0000
TZOFFSETTO:+0100
TZNAME:BST
END:DAYLIGHT
END:VTIMEZONE
END:VCALENDAR