BEGIN:VCALENDAR
VERSION:2.0
PRODID:-//wp-events-plugin.com//7.2.3.1//EN
TZID:Europe/London
X-WR-TIMEZONE:Europe/London
BEGIN:VEVENT
UID:252@teddingtontown.co.uk
DTSTART;TZID=Europe/London:20170303T200000
DTEND;TZID=Europe/London:20170303T200000
DTSTAMP:20170227T140428Z
URL:https://teddingtontown.co.uk/events/the-dead-parrot-society-presents-t
 heir-stand-up-comedy-the-anglers-4/
SUMMARY:THE DEAD PARROT SOCIETY presents their stand-up comedy @ THE ANGLER
 S
DESCRIPTION:\n\n\n“Let the Dead Parrot Society surprise and delight you!"
 \nCome &amp\; join us a with crackin' nignt of live comedy.\nGracing our s
 tage are the absolutely brilliant......\nGUEST MC – BEN CLOVER - " a gen
 erous peppering of clever and unique observations"ROSIE WILBY - comedian\,
  musician\, writer &amp\; broadcaster.\n"One of London's doyennes of thoug
 htful\, intimate\, and warmly entertaining comedy...”\n\nMATTHEW WINNING
  - one of the most exciting\, unique and imaginative new stand-up and char
 acter comedians in the UK. “Instant laughs”\n\nSARAH KEYWORTH - delive
 rs sharp lines with a cheeky smile and moments of sudden deadpan that leav
 e the audience wanting more...."Pulling in the biggest laughs"\n\nKEVIN O
 ’CONNELL- People’s Choice Winner at the Chortle Student comedy awards 
 2013.... “A Goth-inspired rock-star figure\, and makes the most of his w
 iry frame\, demanding attention as he postures on stage”\n\nSONIA ASTE -
  Spanish comedian whose energetic presence sparkles with passion. “Brill
 iantly funny and engaging."\n\nSo why don't you come along &amp\; join us 
 on Friday 3rd March - a perfect start to your weekend!\nTicket price £10.
 00*\nTickets are available to buy on-line\, at The ANGLERS before the even
 t or on the night** www.thedeadparrotsociety.co.uk or buy via The Tickets 
 app on our Facebook page\n*+ booking fee.\n** Subject to availability.\n\n
 \n
ATTACH;FMTTYPE=image/jpeg:https://teddingtontown.co.uk/wp-content/uploads/
 2017/02/3rdMARCHSMALLPOSTER.png
CATEGORIES:Comedy
LOCATION:The Anglers\, 3 Broom Road\, Teddington \, TW11 9NR\, United Kingd
 om
GEO:51.4292965;-0.32234470000003057
X-APPLE-STRUCTURED-LOCATION;VALUE=URI;X-ADDRESS=3 Broom Road\, Teddington \
 , TW11 9NR\, United Kingdom;X-APPLE-RADIUS=100;X-TITLE=The Anglers:geo:51.
 4292965,-0.32234470000003057
END:VEVENT
BEGIN:VTIMEZONE
TZID:Europe/London
X-LIC-LOCATION:Europe/London
BEGIN:STANDARD
DTSTART:20161030T010000
TZOFFSETFROM:+0100
TZOFFSETTO:+0000
TZNAME:GMT
END:STANDARD
END:VTIMEZONE
END:VCALENDAR