BEGIN:VCALENDAR
VERSION:2.0
PRODID:-//wp-events-plugin.com//7.2.3.1//EN
TZID:Europe/London
X-WR-TIMEZONE:Europe/London
BEGIN:VEVENT
UID:250@teddingtontown.co.uk
DTSTART;TZID=Europe/London:20170329T194500
DTEND;TZID=Europe/London:20170401T194500
DTSTAMP:20170224T142024Z
URL:https://teddingtontown.co.uk/events/the-government-inspector/
SUMMARY:The Government Inspector
DESCRIPTION:\n\n\nYouth Action Theatre presents Nikolai Gogol's The Governm
 ent Inspector.\n\nThe corrupt and bitter Mayor of a small Russian provinci
 al town (“A pimple on God's arse”) awakens suddenly after having ghoul
 ish nightmares of two black rats visiting him in the night. He soon discov
 ers that his town is to be visited by a Government Inspector from St Peter
 sburg travelling incognito. The Mayor is beside himself as he knows that t
 he ingrained corruption\, which permeates every facet of bureaucratic life
  in his district\, is going to be brutally exposed and his neck will be on
  the line. He learns that a man who fits the description is staying at the
  local inn and he and his cronies decide to do all they can to impress him
 . The play is a Comedy of Errors satirising human greed\, stupidity\, and 
 the extensive political corruption of Imperial Russia. Subtlety is not at 
 the forefront of this lively comedy\, expect big\, bold\, bright and bizar
 re characters and a stage that fizzes with vitality\, creativity and fun. 
 After recently having successful runs at The Young Vic\, Theatre Royal Str
 atford East and Southwark Playhouse\, YAT brings Gogol’s highly entertai
 ning classic to life on stage\, at the Hampton Hill Theatre in March!\n\nP
 lease note this performance contains some strong language.\nRecommended ag
 e of 14+\n\n\n
CATEGORIES:Theatre
LOCATION:Hampton Hill Theatre\, 90 high street \, Hampton hill \, TW12 1NZ\
 , United Kingdom
GEO:51.42737049999999;-0.35510420000002796
X-APPLE-STRUCTURED-LOCATION;VALUE=URI;X-ADDRESS=90 high street \, Hampton h
 ill \, TW12 1NZ\, United Kingdom;X-APPLE-RADIUS=100;X-TITLE=Hampton Hill T
 heatre:geo:51.42737049999999,-0.35510420000002796
END:VEVENT
BEGIN:VTIMEZONE
TZID:Europe/London
X-LIC-LOCATION:Europe/London
BEGIN:DAYLIGHT
DTSTART:20170326T020000
TZOFFSETFROM:+0000
TZOFFSETTO:+0100
TZNAME:BST
END:DAYLIGHT
END:VTIMEZONE
END:VCALENDAR