BEGIN:VCALENDAR
VERSION:2.0
PRODID:-//wp-events-plugin.com//7.2.3.1//EN
TZID:Europe/London
X-WR-TIMEZONE:Europe/London
BEGIN:VEVENT
UID:1612@teddingtontown.co.uk
DTSTART;TZID=Europe/London:20241115T180000
DTEND;TZID=Europe/London:20241115T180000
DTSTAMP:20241014T141401Z
URL:https://teddingtontown.co.uk/events/the-league-of-friends-teddington-m
 emorial-hospital-charity-bridge-event/
SUMMARY:The League of Friends Teddington Memorial Hospital Charity Bridge E
 vent
DESCRIPTION:You Are Invited to the League of Friends Charity Bridge Event!\
 nJoin us for an enjoyable evening of bridge\, hosted by Richmond Bridge Cl
 ub in support of the League of Friends and Teddington Memorial Hospital. I
 t’s a wonderful opportunity to socialise\, play bridge\, and help raise 
 funds for a great local cause.\n\nDate: Friday\, 15 November 2024\, 6:00 P
 M\nVenue: Richmond Bridge Club\, Twickenham\, TW1 2PG\nTickets: £35 per p
 erson (includes supper and one free drink)\nBooking deadline: 8 November\n
 \nFor further details\, visit our website. We look forward to seeing you t
 here and supporting Teddington Memorial Hospital together!
ATTACH;FMTTYPE=image/jpeg:https://teddingtontown.co.uk/wp-content/uploads/
 2024/10/charity-bridge-event-2.png
CATEGORIES:Charity,Community,Social Events
END:VEVENT
BEGIN:VTIMEZONE
TZID:Europe/London
X-LIC-LOCATION:Europe/London
BEGIN:STANDARD
DTSTART:20241027T010000
TZOFFSETFROM:+0100
TZOFFSETTO:+0000
TZNAME:GMT
END:STANDARD
END:VTIMEZONE
END:VCALENDAR