BEGIN:VCALENDAR
VERSION:2.0
PRODID:-//wp-events-plugin.com//7.2.3.1//EN
TZID:Europe/London
X-WR-TIMEZONE:Europe/London
BEGIN:VEVENT
UID:137@teddingtontown.co.uk
DTSTART;TZID=Europe/London:20161015T193000
DTEND;TZID=Europe/London:20161015T213000
DTSTAMP:20160824T123752Z
URL:https://teddingtontown.co.uk/events/the-marriage-of-figaro/
SUMMARY:The Marriage of Figaro
DESCRIPTION:Thames Philharmonia Opera are performing Mozart's immortal oper
 a 'The Marriage of Figaro' performed in its original Italian.\n\nThe perfo
 rmance is staged with full orchestra - The Thames Philharmonia\, conducted
  by Musical Director Byung-Yun Yu and directed by Sarah De Winter.\n\nThe 
 production introduces some wonderful up-and-coming principal singers and c
 horus\, including:\n\nCrispin Lewis as Figaro\nEleanor Hemmens as Susanna\
 nNicholas George as Count Almaviva\nTamara Ravenhill as Countess Almaviva\
 nAnna McLachlan as Cherubino\n\nPerformance date and time: Saturday 15th O
 ctober at 7:30 p.m.\nTickets at £20 available from Langdon Down Centre ww
 w.langdondowncentre.org.uk\n\nPhone: 0333 1212 300\n\n
CATEGORIES:Theatre
LOCATION:Normansfield Theatre\, 2A Langdon Park\, Teddington \, TW11 9PS\, 
 United Kingdom
GEO:51.4198006;-0.3145604999999705
X-APPLE-STRUCTURED-LOCATION;VALUE=URI;X-ADDRESS=2A Langdon Park\, Teddingto
 n \, TW11 9PS\, United Kingdom;X-APPLE-RADIUS=100;X-TITLE=Normansfield The
 atre:geo:51.4198006,-0.3145604999999705
END:VEVENT
BEGIN:VTIMEZONE
TZID:Europe/London
X-LIC-LOCATION:Europe/London
BEGIN:DAYLIGHT
DTSTART:20160327T020000
TZOFFSETFROM:+0000
TZOFFSETTO:+0100
TZNAME:BST
END:DAYLIGHT
END:VTIMEZONE
END:VCALENDAR