BEGIN:VCALENDAR
VERSION:2.0
PRODID:-//wp-events-plugin.com//7.2.3.1//EN
TZID:Europe/London
X-WR-TIMEZONE:Europe/London
BEGIN:VEVENT
UID:6@teddingtontown.co.uk
DTSTART;TZID=Europe/London:20160329T000000
DTEND;TZID=Europe/London:20160410T000000
DTSTAMP:20160322T111138Z
URL:https://teddingtontown.co.uk/events/the-witches/
SUMMARY:The Witches
DESCRIPTION:Roald Dahl’s scariest book is brought to life in a tremendous
 ly terrifying treat for the whole family.\n\nWitches absolutely detest chi
 ldren. They find them revolting and are planning to wipe them out like wea
 sels! They want to squish them and squiggle them and make them disappear. 
 But one brave young boy and his grandmother have a plan to get rid of the 
 witches for good… if only they can avoid being turned into mice.\n\nDire
 cted by Curve Artistic Director\, Nikolai Foster\, The Witches features a 
 hugely talented cast of actor-musicians and mind-boggling illusions that w
 ill leave you flabbergasted!\n\nThe Witches contains stupendously scary bi
 ts and is recommended for children aged 7+ and their brave grown-ups.\n\nT
 ickets: £8 - £24*\n* An additional £1 per ticket booking fee and £1.60
  per booking transaction fee are payable when booking online and by phone.
 \n\nhttp://www.rosetheatrekingston.org/whats-on/the-witches\n\n
CATEGORIES:Theatre
LOCATION:Rose Theatre Kingston\, 24-26 High Street\, Kingston\, KT1 1HL\, U
 nited Kingdom
GEO:51.4087593;-0.307874800000036
X-APPLE-STRUCTURED-LOCATION;VALUE=URI;X-ADDRESS=24-26 High Street\, Kingsto
 n\, KT1 1HL\, United Kingdom;X-APPLE-RADIUS=100;X-TITLE=Rose Theatre Kings
 ton:geo:51.4087593,-0.307874800000036
END:VEVENT
BEGIN:VTIMEZONE
TZID:Europe/London
X-LIC-LOCATION:Europe/London
BEGIN:DAYLIGHT
DTSTART:20160327T020000
TZOFFSETFROM:+0000
TZOFFSETTO:+0100
TZNAME:BST
END:DAYLIGHT
END:VTIMEZONE
END:VCALENDAR