BEGIN:VCALENDAR
VERSION:2.0
PRODID:-//wp-events-plugin.com//7.2.3.1//EN
TZID:Europe/London
X-WR-TIMEZONE:Europe/London
BEGIN:VEVENT
UID:1856@teddingtontown.co.uk
DTSTART;TZID=Europe/London:20250427T100000
DTEND;TZID=Europe/London:20250428T170000
DTSTAMP:20250325T103239Z
URL:https://teddingtontown.co.uk/events/twickenham-art-circle-exhibition-2
 025-04-27/
SUMMARY:Twickenham Art Circle Exhibition
DESCRIPTION:The Landmark Arts Centre\, Ferry Road\, Teddington\, TW11 9NN\n
 \n&nbsp\;\n\nTwickenham Art Circle returns to The Landmark with its Spring
  Exhibition offering a diverse range of affordable art by members of this 
 long-established group of local artists.\n\n&nbsp\;\n\nThe exhibition also
  includes an installation and demonstrations by guest artist Cordelia Stew
 art\, an East London based interdisciplinary artist\, jeweller and educato
 r.\n\n&nbsp\;\n\nFor more information about Twickenham Art Circle visit  
  www.twickenhamartcircle.org.uk\n\n&nbsp\;\n\nAdmission: free (inc. Cata
 logue)\n\n&nbsp\;\n\nImage: Doina Moss\, Iron Bridge\, 2024. Oil on canva
 s with acrylic background\, (own purple mix). 50×40 cm.
ATTACH;FMTTYPE=image/jpeg:https://teddingtontown.co.uk/wp-content/uploads/
 2025/03/TAC_Doina-Moss-Iron-Bridge-small.jpg
CATEGORIES:Arts
END:VEVENT
BEGIN:VTIMEZONE
TZID:Europe/London
X-LIC-LOCATION:Europe/London
BEGIN:DAYLIGHT
DTSTART:20250330T020000
TZOFFSETFROM:+0000
TZOFFSETTO:+0100
TZNAME:BST
END:DAYLIGHT
END:VTIMEZONE
END:VCALENDAR