BEGIN:VCALENDAR
VERSION:2.0
PRODID:-//wp-events-plugin.com//7.2.3.1//EN
TZID:Europe/London
X-WR-TIMEZONE:Europe/London
BEGIN:VEVENT
UID:697@teddingtontown.co.uk
DTSTART;TZID=Europe/London:20231209T193000
DTEND;TZID=Europe/London:20231209T213000
DTSTAMP:20231011T123747Z
URL:https://teddingtontown.co.uk/events/twickenham-choral/
SUMMARY:Twickenham Choral
DESCRIPTION:Landmark Arts Centre\, Ferry Road\, Teddington\, TW11 9NN\n\nBr
 ahms Requiem and Rheinberger Mass in E flat for Double Choir\n\nAcknowledg
 ed as one of the great choral works of the Romantic era\, Brahms’s Germa
 n Requiem was clearly intended as a comfort to the living rather than as a
  requiem for the souls of the dead. This much-loved masterpiece\, with sol
 oists Philippa Boyle and Peter Lidbetter\, is accompanied tonight by a sma
 ll orchestra of eight instrumentalists along with piano to create a rich a
 nd satisfying texture\, retaining much of the original orchestration.\n\nU
 nder the direction of their conductor Christopher Herrick\, Twickenham Cho
 ral\, one of London’s foremost choirs\, partner the Requiem with the del
 icious Romantic choral music of Rheinberger’s Mass in E flat for Double 
 Choir.\n\nTickets: £22 (£11 for full-time students)\n\nOnline Booking: h
 ttps://www.landmarkartscentre.org/shows/twickenham-choral/\n\nTelephone: 
  020 8977 7558
ATTACH;FMTTYPE=image/jpeg:https://teddingtontown.co.uk/wp-content/uploads/
 2023/10/Twickenham-CHoral-landscape-smaller.jpg
CATEGORIES:Music
END:VEVENT
BEGIN:VTIMEZONE
TZID:Europe/London
X-LIC-LOCATION:Europe/London
BEGIN:STANDARD
DTSTART:20231029T010000
TZOFFSETFROM:+0100
TZOFFSETTO:+0000
TZNAME:GMT
END:STANDARD
END:VTIMEZONE
END:VCALENDAR