BEGIN:VCALENDAR
VERSION:2.0
PRODID:-//wp-events-plugin.com//7.2.3.1//EN
TZID:Europe/London
X-WR-TIMEZONE:Europe/London
BEGIN:VEVENT
UID:670@teddingtontown.co.uk
DTSTART;TZID=Europe/London:20231028T193000
DTEND;TZID=Europe/London:20231028T213000
DTSTAMP:20230914T204524Z
URL:https://teddingtontown.co.uk/events/women-in-the-margins-lucy-barker-a
 nd-liz-hyden/
SUMMARY:Women in the Margins:  Lucy Barker and Liz Hyden
DESCRIPTION:The Landmark Arts Centre\, Ferry Road\, Teddington\, TW11 9NN\n
 \n&nbsp\;\n\nWe are delighted to be joined by two women whose debut novels
  have won audience approval and numerous awards\; Lucy Barker and Liz Hyde
 n.\n\n \n\nJoin us for a chance to hear from these authors\, who have bot
 h set their tales against the backdrop of Victorian England. They will dis
 cuss their research\, their challenges and their love for the work. You ca
 n expect live readings from their best-selling books\, The Otherside of Mr
 s Wood and The Gifts. Plus\, discussion\, laughter and cocktails from the 
 pop-up mixing\nstation we are adding in JUST for this event. Then it’s y
 our chance to ask questions about the books\, the stories or the process o
 f writing and researching the books.\n\n&nbsp\;\n\nDo not miss this opport
 unity to meet\, purchase a book and have it signed by the author herself.\
 n\n&nbsp\;\n\nEarly arrival is recommended. Pre-drinks will be available t
 o purchase on the night from 6pm. No pre-reading is required!\n\n&nbsp\;\n
 \nTickets:  £15\n\n&nbsp\;\n\nFor more information:  Telephone 020 8977
  7558\, email info@landmarkartscentre.org or to book online go to: https:/
 /www.landmarkartscentre.org/shows/lucy-barker-and-liz-hyden/
ATTACH;FMTTYPE=image/jpeg:https://teddingtontown.co.uk/wp-content/uploads/
 2023/09/Lucy-Baker-and-Liz-Hyder-smaller.jpg
CATEGORIES:Other
END:VEVENT
BEGIN:VTIMEZONE
TZID:Europe/London
X-LIC-LOCATION:Europe/London
BEGIN:DAYLIGHT
DTSTART:20230326T020000
TZOFFSETFROM:+0000
TZOFFSETTO:+0100
TZNAME:BST
END:DAYLIGHT
END:VTIMEZONE
END:VCALENDAR